BEGIN:VCALENDAR
VERSION:2.0
PRODID:-//Firmung - ECPv6.15.20//NONSGML v1.0//EN
CALSCALE:GREGORIAN
METHOD:PUBLISH
X-ORIGINAL-URL:https://firmung-duesseldorf.de
X-WR-CALDESC:Veranstaltungen für Firmung
REFRESH-INTERVAL;VALUE=DURATION:PT1H
X-Robots-Tag:noindex
X-PUBLISHED-TTL:PT1H
BEGIN:VTIMEZONE
TZID:Europe/Amsterdam
BEGIN:DAYLIGHT
TZOFFSETFROM:+0100
TZOFFSETTO:+0200
TZNAME:CEST
DTSTART:20250330T010000
END:DAYLIGHT
BEGIN:STANDARD
TZOFFSETFROM:+0200
TZOFFSETTO:+0100
TZNAME:CET
DTSTART:20251026T010000
END:STANDARD
BEGIN:DAYLIGHT
TZOFFSETFROM:+0100
TZOFFSETTO:+0200
TZNAME:CEST
DTSTART:20260329T010000
END:DAYLIGHT
BEGIN:STANDARD
TZOFFSETFROM:+0200
TZOFFSETTO:+0100
TZNAME:CET
DTSTART:20261025T010000
END:STANDARD
BEGIN:DAYLIGHT
TZOFFSETFROM:+0100
TZOFFSETTO:+0200
TZNAME:CEST
DTSTART:20270328T010000
END:DAYLIGHT
BEGIN:STANDARD
TZOFFSETFROM:+0200
TZOFFSETTO:+0100
TZNAME:CET
DTSTART:20271031T010000
END:STANDARD
END:VTIMEZONE
BEGIN:VEVENT
DTSTART;TZID=Europe/Amsterdam:20260712T170000
DTEND;TZID=Europe/Amsterdam:20260712T200000
DTSTAMP:20260422T112802
CREATED:20240702T123843Z
LAST-MODIFIED:20251125T112056Z
UID:1229-1783875600-1783886400@firmung-duesseldorf.de
SUMMARY:Firm-Abschluss
DESCRIPTION:Lasst uns auf Eure Firmung anstoßen – an einem hoffentlich lauen Sommerabend mit einem leckeren Cocktail in der Hand. \nWir treffen uns um 17 Uhr zum Cocktailtrinken vor der Franz-von-Sales-Kirche und gehen um 18 Uhr gemeinsam zum UPDATE-Gottesdienst – einem erlebnisreichen Mix aus Konzert\, Anbetung\, Predigt und Gespräch. Das UPDATE-Team und die Worship-Band PRAY zeigen\, wie Gottesdienste aussehen\, die inspirieren\, mitreißen und begeistern!
URL:https://firmung-duesseldorf.de/event/firm-abschluss/
LOCATION:Franz-von-Sales-Kirche\, Siegburger Straße 165\, Düsseldorf\, 40591
CATEGORIES:weiteres
ATTACH;FMTTYPE=image/jpeg:https://firmung-duesseldorf.de/wp-content/uploads/2024/07/mojito-1548908_1280.jpg
END:VEVENT
END:VCALENDAR